BEGIN:VCALENDAR
VERSION:2.0
PRODID:-//Ford Classic Club DK - ECPv6.15.20//NONSGML v1.0//EN
CALSCALE:GREGORIAN
METHOD:PUBLISH
X-WR-CALNAME:Ford Classic Club DK
X-ORIGINAL-URL:https://fordcc.dk
X-WR-CALDESC:Begivenheder for Ford Classic Club DK
REFRESH-INTERVAL;VALUE=DURATION:PT1H
X-Robots-Tag:noindex
X-PUBLISHED-TTL:PT1H
BEGIN:VTIMEZONE
TZID:Europe/Copenhagen
BEGIN:DAYLIGHT
TZOFFSETFROM:+0100
TZOFFSETTO:+0200
TZNAME:CEST
DTSTART:20250330T010000
END:DAYLIGHT
BEGIN:STANDARD
TZOFFSETFROM:+0200
TZOFFSETTO:+0100
TZNAME:CET
DTSTART:20251026T010000
END:STANDARD
BEGIN:DAYLIGHT
TZOFFSETFROM:+0100
TZOFFSETTO:+0200
TZNAME:CEST
DTSTART:20260329T010000
END:DAYLIGHT
BEGIN:STANDARD
TZOFFSETFROM:+0200
TZOFFSETTO:+0100
TZNAME:CET
DTSTART:20261025T010000
END:STANDARD
BEGIN:DAYLIGHT
TZOFFSETFROM:+0100
TZOFFSETTO:+0200
TZNAME:CEST
DTSTART:20270328T010000
END:DAYLIGHT
BEGIN:STANDARD
TZOFFSETFROM:+0200
TZOFFSETTO:+0100
TZNAME:CET
DTSTART:20271031T010000
END:STANDARD
END:VTIMEZONE
BEGIN:VEVENT
DTSTART;TZID=Europe/Copenhagen:20260703T080000
DTEND;TZID=Europe/Copenhagen:20260705T170000
DTSTAMP:20260426T033744
CREATED:20251203T113841Z
LAST-MODIFIED:20260423T101106Z
UID:5126-1783065600-1783270800@fordcc.dk
SUMMARY:Tag til Svenskt Sportsvagnsmeeting med den svenske Cortina-klub
DESCRIPTION:Til Svenskt Sportvagnsmeeting\, der er Sveriges største racerarrangement\, deltager ca. 300 historiske biler og nyere racerbiler i race på banen. Der er til arrangementet en meget stor udstiling af sportsvogne og af bilklubber på området. Vi forventer igen at kunne udstille vores klubbiler sammen med den svenske Cortina-klub på deres stand. Man kan udstille lørdag og/eller søndag. Der åbnes for indkørsel kl. 8:30. \nDet er muligt at campere på området hele den forlængede weekend fra fredag til søndag. Pris for indgang og for camping er ikke annonceret endnu. \nDato og tidspunkt: 3. juli til 5. juli \nSted: Ring Knutstorp\, 268 05 Kågeröd\, Sverige \nKontakt: Tilmelding til at udstille på standen skal foretages senest den 21. juni til Casper Lundgreen på casper.lundgreen@gmail.com eller 26279469. Indgangsbilletter til Svenskt Sportvangsmeeting og eventuelt camping afregnes ved ankomst med Svenskt Sportvagnsmeeting.
URL:https://fordcc.dk/event/tag-til-svenskt-sportsvagnsmeeting-med-den-svenske-cortina-klub/
ATTACH;FMTTYPE=image/jpeg:https://fordcc.dk/wp-content/uploads/2024/10/450160349_10161463678673700_8630520591426563350_n.jpg
END:VEVENT
END:VCALENDAR