BEGIN:VCALENDAR
VERSION:2.0
PRODID:-//Ford Classic Club DK - ECPv6.15.20//NONSGML v1.0//EN
CALSCALE:GREGORIAN
METHOD:PUBLISH
X-ORIGINAL-URL:https://fordcc.dk
X-WR-CALDESC:Begivenheder for Ford Classic Club DK
REFRESH-INTERVAL;VALUE=DURATION:PT1H
X-Robots-Tag:noindex
X-PUBLISHED-TTL:PT1H
BEGIN:VTIMEZONE
TZID:Europe/Copenhagen
BEGIN:DAYLIGHT
TZOFFSETFROM:+0100
TZOFFSETTO:+0200
TZNAME:CEST
DTSTART:20250330T010000
END:DAYLIGHT
BEGIN:STANDARD
TZOFFSETFROM:+0200
TZOFFSETTO:+0100
TZNAME:CET
DTSTART:20251026T010000
END:STANDARD
BEGIN:DAYLIGHT
TZOFFSETFROM:+0100
TZOFFSETTO:+0200
TZNAME:CEST
DTSTART:20260329T010000
END:DAYLIGHT
BEGIN:STANDARD
TZOFFSETFROM:+0200
TZOFFSETTO:+0100
TZNAME:CET
DTSTART:20261025T010000
END:STANDARD
BEGIN:DAYLIGHT
TZOFFSETFROM:+0100
TZOFFSETTO:+0200
TZNAME:CEST
DTSTART:20270328T010000
END:DAYLIGHT
BEGIN:STANDARD
TZOFFSETFROM:+0200
TZOFFSETTO:+0100
TZNAME:CET
DTSTART:20271031T010000
END:STANDARD
END:VTIMEZONE
BEGIN:VEVENT
DTSTART;TZID=Europe/Copenhagen:20260214T093000
DTEND;TZID=Europe/Copenhagen:20260214T140000
DTSTAMP:20260426T020707
CREATED:20251020T065905Z
LAST-MODIFIED:20251110T095957Z
UID:4988-1771061400-1771077600@fordcc.dk
SUMMARY:Fordformiddag hos Bent og Ulla i Øm ved Roskilde
DESCRIPTION:Vi mødes kl. 9:30 til morgenmad. \nDet koster 50 kr. per person\, der dækker morgenmad med kaffe/te samt lidt koldt at drikke. \nDato og tidspunkt: Lørdag den 14. februar kl. 9:30 \nSted: Ømgårdsvej 10\, 4000 Roskilde \nKontakt: Tilmelding senest den 8. februar på 20210962 (opkald\, ikke sms)
URL:https://fordcc.dk/event/fordformiddag-hos-bent-og-ulla-i-oem-ved-roskilde/
ATTACH;FMTTYPE=image/jpeg:https://fordcc.dk/wp-content/uploads/2024/11/407424831_2615988625235861_6089857186667379592_n.jpg
END:VEVENT
BEGIN:VEVENT
DTSTART;TZID=Europe/Copenhagen:20260218T180000
DTEND;TZID=Europe/Copenhagen:20260218T210000
DTSTAMP:20260426T020707
CREATED:20251119T105750Z
LAST-MODIFIED:20260204T160707Z
UID:5021-1771437600-1771448400@fordcc.dk
SUMMARY:Klubarrangement hos Torben Eskildsen i Rødekro
DESCRIPTION:Der afholdes som sædvanligt klubarrangement hos Torben Eskildsen i Rødekro og denne gang er det den 18. februar. \nAftenens tema er teknisk gennemgang af ”Køln V6”\, der jo er kraftkilde i rigtig mange af vore klubbiler. Fælles for disse motorer er\, at de grundlæggende er robuste og ”Unvervüstlich”\, som de siger i Tyskland (uopslidelig). Dette er dog – med ret meget andet i livet – en sandhed med modifikationer. Selv Køln V6 slides og ældes. \nKom og hør om de typiske aldringstegn ved disse motorer\, og f.eks. om ventilklapren er et godt eller et skidt tegn. Jan Wael fra ”Jans Garage” vil fortælle om Køln V6 og hvad de typiske fejl er\, og hvordan de udbedres og løses\, så dette fantastiske stykke mekanik igen kommer til at spinde som en veltilfreds kat ved madskålen. Og hvad der får disse motorer til at gå helt ad H til. Og hvad man selv kan gøre\, for at den kommer til at gå ad H til. \nVi skal have ”hands on” på ventiljustering på Køln V6\, hvor Jan viser hvorledes denne opgave løses. Og som oftest har voldsom indvirkning på denne motors gang og opførsel. Som patient bruges en netop istandsat Køln V6\, frisk hjemkommet fra Jans Garage. \nVi følger op på sidste års tema\, hvor vi så på Weber karburator til Køln V6\, og hvad skarpere knaster i disse motorer betyder. \nNår vi er færdige med Køln V6\, så går vi over til at tale om ”cruise control” eller fartpilot om man vil. Tilbage i sin tid var det engelske firma ”Econocruise” OE leverandør til de førende britiske bilmærker\, som f.eks. Jaguar og Rolls Royce. Alle disse komponenter er i dag i store mængder til salg på Ebay. Så via Ebay kan der faktisk skaffes komponenter til at bygge en komplet cruise control til sin klassiske Ford. Hvis man har strømskemaerne. Og dem har jeg i tidens løb for skaffet mig. Så dem gennemgår vi. \nSå kom og hør om hvordan de gamle vaccum fartpiloter virker og hvorfor Jaguar reservedelsnummer DAC 1224 er ”must have”\, når man skal i gang med sådan et projekt. \nPris for deltagelse er kr. 75\, der dækker første klasses forplejning. \nDato og tidspunkt: Onsdag den 18. februar kl. 18 \nSted: Torben Eskildsen\, Østergade 30\, 6230 Rødekro \nKontakt: Tilmelding til Torben på 22956756 eller torben@intension.dk senest den 12. februar.
URL:https://fordcc.dk/event/klubarrangement-hos-torben-eskildsen-i-roedekro/
ATTACH;FMTTYPE=image/jpeg:https://fordcc.dk/wp-content/uploads/2024/10/20240221_182840.jpg
END:VEVENT
END:VCALENDAR