BEGIN:VCALENDAR
VERSION:2.0
PRODID:-//Ford Classic Club DK - ECPv6.15.20//NONSGML v1.0//EN
CALSCALE:GREGORIAN
METHOD:PUBLISH
X-ORIGINAL-URL:https://fordcc.dk
X-WR-CALDESC:Begivenheder for Ford Classic Club DK
REFRESH-INTERVAL;VALUE=DURATION:PT1H
X-Robots-Tag:noindex
X-PUBLISHED-TTL:PT1H
BEGIN:VTIMEZONE
TZID:Europe/Copenhagen
BEGIN:DAYLIGHT
TZOFFSETFROM:+0100
TZOFFSETTO:+0200
TZNAME:CEST
DTSTART:20250330T010000
END:DAYLIGHT
BEGIN:STANDARD
TZOFFSETFROM:+0200
TZOFFSETTO:+0100
TZNAME:CET
DTSTART:20251026T010000
END:STANDARD
BEGIN:DAYLIGHT
TZOFFSETFROM:+0100
TZOFFSETTO:+0200
TZNAME:CEST
DTSTART:20260329T010000
END:DAYLIGHT
BEGIN:STANDARD
TZOFFSETFROM:+0200
TZOFFSETTO:+0100
TZNAME:CET
DTSTART:20261025T010000
END:STANDARD
BEGIN:DAYLIGHT
TZOFFSETFROM:+0100
TZOFFSETTO:+0200
TZNAME:CEST
DTSTART:20270328T010000
END:DAYLIGHT
BEGIN:STANDARD
TZOFFSETFROM:+0200
TZOFFSETTO:+0100
TZNAME:CET
DTSTART:20271031T010000
END:STANDARD
END:VTIMEZONE
BEGIN:VEVENT
DTSTART;TZID=Europe/Copenhagen:20260614T080000
DTEND;TZID=Europe/Copenhagen:20260614T170000
DTSTAMP:20260426T034130
CREATED:20251203T113629Z
LAST-MODIFIED:20251203T113629Z
UID:5122-1781424000-1781456400@fordcc.dk
SUMMARY:Fælles morgenmad til Gavnø Classic Autojumble & Concours de Charme
DESCRIPTION:Der afholdes Gavnø Classic Autojumble og Concours de Charme i Næstved. Vores klub vil igen have en klubstand\, Er din bil 30 år eller derover kan du som sædvanligt tilmelde den via Gavnøs hjemmeside og under ”Klub” anføre ”Ford Classic Club DK”. Er din bil mellem 25 år og 29 år\, skal den tilmeldes ved at sende en mail til casper.lundgreen@gmail.com med angivelse af Navn\, Køretøj (model)\, årgang\, Telefonnummer og E-mail. Dette skal gøres senest den 29. maj. Vi arrangerer fælles morgenmad for klubbens medlemmer og ledsagere. \nSted: Gavnø i Næstved \nDato og tidspunkt: Søndag den 14. juni kl. 8 \nKontakt:  Hvis du vil deltage i morgenmaden\, så kontakt Casper Lundgreen på 26279469 eller casper.lundgreen@gmail.com. Frist for tilmelding til morgenmad er den 5. juni. Prisen vil være i omegnen af 30 kr. per person. Husk også at tilmelde din bil til Gavnø.
URL:https://fordcc.dk/event/faelles-morgenmad-til-gavnoe-classic-autojumble-concours-de-charme/
ATTACH;FMTTYPE=image/jpeg:https://fordcc.dk/wp-content/uploads/2024/06/448020420_10161394559958700_2307595381661991382_n.jpg
END:VEVENT
END:VCALENDAR