BEGIN:VCALENDAR
VERSION:2.0
PRODID:-//Ford Classic Club DK - ECPv6.15.20//NONSGML v1.0//EN
CALSCALE:GREGORIAN
METHOD:PUBLISH
X-ORIGINAL-URL:https://fordcc.dk
X-WR-CALDESC:Begivenheder for Ford Classic Club DK
REFRESH-INTERVAL;VALUE=DURATION:PT1H
X-Robots-Tag:noindex
X-PUBLISHED-TTL:PT1H
BEGIN:VTIMEZONE
TZID:Europe/Copenhagen
BEGIN:DAYLIGHT
TZOFFSETFROM:+0100
TZOFFSETTO:+0200
TZNAME:CEST
DTSTART:20250330T010000
END:DAYLIGHT
BEGIN:STANDARD
TZOFFSETFROM:+0200
TZOFFSETTO:+0100
TZNAME:CET
DTSTART:20251026T010000
END:STANDARD
BEGIN:DAYLIGHT
TZOFFSETFROM:+0100
TZOFFSETTO:+0200
TZNAME:CEST
DTSTART:20260329T010000
END:DAYLIGHT
BEGIN:STANDARD
TZOFFSETFROM:+0200
TZOFFSETTO:+0100
TZNAME:CET
DTSTART:20261025T010000
END:STANDARD
BEGIN:DAYLIGHT
TZOFFSETFROM:+0100
TZOFFSETTO:+0200
TZNAME:CEST
DTSTART:20270328T010000
END:DAYLIGHT
BEGIN:STANDARD
TZOFFSETFROM:+0200
TZOFFSETTO:+0100
TZNAME:CET
DTSTART:20271031T010000
END:STANDARD
END:VTIMEZONE
BEGIN:VEVENT
DTSTART;TZID=Europe/Copenhagen:20260516T090000
DTEND;TZID=Europe/Copenhagen:20260516T180000
DTSTAMP:20260426T020800
CREATED:20260119T075700Z
LAST-MODIFIED:20260119T090151Z
UID:5200-1778922000-1778954400@fordcc.dk
SUMMARY:Veteraner i Hammersholt
DESCRIPTION:Igen i år er der træf i Hammersholt mellem Allerød og Hillerød i Nordsjælland. \nFord Classic Club DK er via vores medlem Martin Dworak igen inviteret til\, at stille op med en lille klubstand og biler. Det er ren og skær hyggetræf\, hvor der er mulighed for at opleve forskellige veteranbiler\, MC’ere\, lastbiler\, samt musik\, pølser og brød\, øl/vand og en lille R/C udstilling. Er vejret godt er stemningen i top! \nSted: Hammersholt Byvej 16\, 3400 Hillerød \nDato og tidspunkt: Lørdag den 16. maj fra kl. 9. \nKontakt: Martin på sgt.marty@hotmail.com
URL:https://fordcc.dk/event/veteraner-i-hammersholt/
ATTACH;FMTTYPE=image/jpeg:https://fordcc.dk/wp-content/uploads/2025/06/503168365_10162769899448700_3005676780262840853_n.jpg
END:VEVENT
END:VCALENDAR