BEGIN:VCALENDAR
VERSION:2.0
PRODID:-//Ford Classic Club DK - ECPv6.15.20//NONSGML v1.0//EN
CALSCALE:GREGORIAN
METHOD:PUBLISH
X-ORIGINAL-URL:https://fordcc.dk
X-WR-CALDESC:Begivenheder for Ford Classic Club DK
REFRESH-INTERVAL;VALUE=DURATION:PT1H
X-Robots-Tag:noindex
X-PUBLISHED-TTL:PT1H
BEGIN:VTIMEZONE
TZID:Europe/Copenhagen
BEGIN:DAYLIGHT
TZOFFSETFROM:+0100
TZOFFSETTO:+0200
TZNAME:CEST
DTSTART:20250330T010000
END:DAYLIGHT
BEGIN:STANDARD
TZOFFSETFROM:+0200
TZOFFSETTO:+0100
TZNAME:CET
DTSTART:20251026T010000
END:STANDARD
BEGIN:DAYLIGHT
TZOFFSETFROM:+0100
TZOFFSETTO:+0200
TZNAME:CEST
DTSTART:20260329T010000
END:DAYLIGHT
BEGIN:STANDARD
TZOFFSETFROM:+0200
TZOFFSETTO:+0100
TZNAME:CET
DTSTART:20261025T010000
END:STANDARD
BEGIN:DAYLIGHT
TZOFFSETFROM:+0100
TZOFFSETTO:+0200
TZNAME:CEST
DTSTART:20270328T010000
END:DAYLIGHT
BEGIN:STANDARD
TZOFFSETFROM:+0200
TZOFFSETTO:+0100
TZNAME:CET
DTSTART:20271031T010000
END:STANDARD
END:VTIMEZONE
BEGIN:VEVENT
DTSTART;TZID=Europe/Copenhagen:20260510T100000
DTEND;TZID=Europe/Copenhagen:20260510T150000
DTSTAMP:20260426T020759
CREATED:20251203T113329Z
LAST-MODIFIED:20251205T092659Z
UID:5116-1778407200-1778425200@fordcc.dk
SUMMARY:Rullefelttræf hos KK Autoteknik ved Skive
DESCRIPTION:Ford Klub Danmark og Ford Classic Club DK afholder rullefelttræf hos Karsten Kjeldsen søndag den 10. maj 2026. \nVi starter kl. 10:00 og frem til sidst på eftermiddagen\, eller når der ikke er flere biler at rulle. \nMan kan tilmelde sig rulning ved at skrive en sms til vores medlem Bo på 21659139 eller mail til bo140577@gmail.com med navn og bilinfo. \nDet foregår efter først-til-mølle-princippet. Kom ud af buskene med jeres fede Ford-biler og få rullet/målt effektkurve og momentkurve. \nDer kan rulles både 2WD og 4WD. Karsten kan også give gode råd til om motoren får nok brændstof\, luft\, eller om der kan laves forbedringer ud fra tallene. \nPris for effektmåling: 600 kr. \nDer kan købes sodavand og vand hele dagen\, og hvis vejrguderne er med os\, bliver der også tændt op i grillen\, så der kan købes pølser og brød. \nØnsker du ikke at få din Ford på rullefeltet er der en kæmpe parkeringsplads\, hvor der er plads til hygge\, snak og dæksparken. \nSe original beskrivelse. \nDato og tidspunkt: Søndag den 10. maj fra kl. 10 \nSted: KK Autoteknik\, Knastvej 3\, 7860 Oddense\, (Bemærk: 14 km nord for Skive i Jylland) \nKontakt: Bo på 21659139 eller mail til bo140577@gmail.com
URL:https://fordcc.dk/event/rullefelttraef-i-jylland/
ATTACH;FMTTYPE=image/jpeg:https://fordcc.dk/wp-content/uploads/2025/12/Escort-rulefelt.jpg
END:VEVENT
END:VCALENDAR