BEGIN:VCALENDAR
VERSION:2.0
PRODID:-//Ford Classic Club DK - ECPv6.15.20//NONSGML v1.0//EN
CALSCALE:GREGORIAN
METHOD:PUBLISH
X-WR-CALNAME:Ford Classic Club DK
X-ORIGINAL-URL:https://fordcc.dk
X-WR-CALDESC:Begivenheder for Ford Classic Club DK
REFRESH-INTERVAL;VALUE=DURATION:PT1H
X-Robots-Tag:noindex
X-PUBLISHED-TTL:PT1H
BEGIN:VTIMEZONE
TZID:Europe/Copenhagen
BEGIN:DAYLIGHT
TZOFFSETFROM:+0100
TZOFFSETTO:+0200
TZNAME:CEST
DTSTART:20250330T010000
END:DAYLIGHT
BEGIN:STANDARD
TZOFFSETFROM:+0200
TZOFFSETTO:+0100
TZNAME:CET
DTSTART:20251026T010000
END:STANDARD
BEGIN:DAYLIGHT
TZOFFSETFROM:+0100
TZOFFSETTO:+0200
TZNAME:CEST
DTSTART:20260329T010000
END:DAYLIGHT
BEGIN:STANDARD
TZOFFSETFROM:+0200
TZOFFSETTO:+0100
TZNAME:CET
DTSTART:20261025T010000
END:STANDARD
BEGIN:DAYLIGHT
TZOFFSETFROM:+0100
TZOFFSETTO:+0200
TZNAME:CEST
DTSTART:20270328T010000
END:DAYLIGHT
BEGIN:STANDARD
TZOFFSETFROM:+0200
TZOFFSETTO:+0100
TZNAME:CET
DTSTART:20271031T010000
END:STANDARD
END:VTIMEZONE
BEGIN:VEVENT
DTSTART;TZID=Europe/Copenhagen:20260425T090000
DTEND;TZID=Europe/Copenhagen:20260425T130000
DTSTAMP:20260425T225757
CREATED:20251203T113115Z
LAST-MODIFIED:20260312T113809Z
UID:5112-1777107600-1777122000@fordcc.dk
SUMMARY:Garagetræf i Ålsø ved Grenaa
DESCRIPTION:Denne lørdag afholder vi garagetræf i ”Den gamle Brugs” i Ålsø ved Grenå. \nProgram: \nkl. 09:00: kaffe og rundstykker \nCa. kl 10:15: kører vi til Dansk Motor- og Maskinsamling i Kristiansminde ved Grenå. Veterankøretøjer får på central plads og fri entre til føreren. Entre for passagerer er 100 kr. \nCa. kl 14:00: Vi kører tilbage til Brugsen i Ålsø\, hvor der er kaffe og pølser \nDer må påregnes egenbetaling. \nTilmelding senest d. 18 april til Preben på sms 40473389. Husk helst medlemsnummer \nOm Dansk Motorsamling: Dansk motorsamling\, der er Nordeuropas største samling ag gamle motorer – mere end 450 stk. De holder deres årlige motortræf netop de 25/4 hvor de præsenterer nyheder og afholder stumpemarked. Oveni er der veteranbiltræf (med gratis adgang til motortræf hvis man kommer i veteranbil ) \nDato og tidspunkt: Lørdag den 25. april \nSted: ”Den gamle Brugs” Hoedvej 14\, Ålsø\, 8500 Grenaa \nKontakt: Tilmelding senest d. 18 april til Preben på sms 40473389 Husk helst medlemsnummer
URL:https://fordcc.dk/event/garagetraef-i-aalsoe-ved-grenaa/
ATTACH;FMTTYPE=image/jpeg:https://fordcc.dk/wp-content/uploads/2024/11/353365359_3607094312854807_136607820516492503_n.jpg
END:VEVENT
END:VCALENDAR