BEGIN:VCALENDAR
VERSION:2.0
PRODID:-//Ford Classic Club DK - ECPv6.15.20//NONSGML v1.0//EN
CALSCALE:GREGORIAN
METHOD:PUBLISH
X-WR-CALNAME:Ford Classic Club DK
X-ORIGINAL-URL:https://fordcc.dk
X-WR-CALDESC:Begivenheder for Ford Classic Club DK
REFRESH-INTERVAL;VALUE=DURATION:PT1H
X-Robots-Tag:noindex
X-PUBLISHED-TTL:PT1H
BEGIN:VTIMEZONE
TZID:Europe/Copenhagen
BEGIN:DAYLIGHT
TZOFFSETFROM:+0100
TZOFFSETTO:+0200
TZNAME:CEST
DTSTART:20250330T010000
END:DAYLIGHT
BEGIN:STANDARD
TZOFFSETFROM:+0200
TZOFFSETTO:+0100
TZNAME:CET
DTSTART:20251026T010000
END:STANDARD
BEGIN:DAYLIGHT
TZOFFSETFROM:+0100
TZOFFSETTO:+0200
TZNAME:CEST
DTSTART:20260329T010000
END:DAYLIGHT
BEGIN:STANDARD
TZOFFSETFROM:+0200
TZOFFSETTO:+0100
TZNAME:CET
DTSTART:20261025T010000
END:STANDARD
BEGIN:DAYLIGHT
TZOFFSETFROM:+0100
TZOFFSETTO:+0200
TZNAME:CEST
DTSTART:20270328T010000
END:DAYLIGHT
BEGIN:STANDARD
TZOFFSETFROM:+0200
TZOFFSETTO:+0100
TZNAME:CET
DTSTART:20271031T010000
END:STANDARD
END:VTIMEZONE
BEGIN:VEVENT
DTSTART;TZID=Europe/Copenhagen:20260411T110000
DTEND;TZID=Europe/Copenhagen:20260411T150000
DTSTAMP:20260426T020557
CREATED:20260117T132711Z
LAST-MODIFIED:20260119T095449Z
UID:5197-1775905200-1775919600@fordcc.dk
SUMMARY:Garagetræf hos Ivan Ebbesen fra Haderup i Jylland
DESCRIPTION:Vores medlem Ivan Ebbesen fra Haderup i Jylland inviterer igen i år til træf. Det bliver denne gang den 11. april og fra kl. 11. \nIvan har en række Ford-biler herunder Escort xr3i\, Sierra\, Mondeo\, Cougar og Scorpio. Kom meget gerne i klubbil. \nDer vil være let frokost\, kaffe og kage. \nSted: Herningvej 94\, 7540 Haderup \nDato og tidspunkt: Lørdag den 11. april 2026 kl. 11 \nKontakt: Tilmelding til Ivan senest den 5. april på 51 21 26 62 eller Anittaivan@mail.dk
URL:https://fordcc.dk/event/garagetraef-hos-ivan-ebbesen-fra-haderup-i-jylland/
ATTACH;FMTTYPE=image/jpeg:https://fordcc.dk/wp-content/uploads/2025/04/491360094_10162573237173700_8187453191062632595_n.jpg
END:VEVENT
END:VCALENDAR